{"text_format":"3","workbook":"xlsx","n_sheets":2,"sheets":["EvaluationForm","Macro"],"not_rendered":{"macros":1,"defined_names":8},"read":"whole","date_system":"1900"}

{"sheet":"EvaluationForm","index":0,"n_rows":29,"n_cols":3,"rows_kept":29,"merged":[[5,0,5,2],[9,0,9,2],[13,0,13,2],[17,0,17,2]]}
["EVALUATION OF ECOSYSTEM RECOVERY  -  ECOLOGICAL RESTORATION STANDARDS"]
["ASSESSOR: "]
["SITE: "]
["DATE:  "]
["ATTRIBUTE CATEGORY","RECOVERY LEVEL (1-5)","EVIDENCE FOR RECOVERY LEVEL"]
["ATTRIBUTE 1. Absence of threats"]
["Over-utilization",0]
["Invasive species (external)",0]
["Contamination",0]
["ATTRIBUTE 2. Physical conditions"]
["Substrate physical",0]
["Substrate chemical",0]
["Water chemo-physical",0]
["ATTRIBUTE 3. Species composition"]
["Desirable plants",0]
["Desirable animals",0]
["No undesirable species ",0]
["ATTRIBUTE 4. Structural diversity"]
["All strata present",0]
["All trophic levels",0]
["Spatial mosaic",0]
["ATTRIBUTE 5. Ecosystem function"]
["Productivity, cycling etc",0]
["Habitat interactions",0]
["Resilience, recruitment etc ",0]
["ATTRIBUTE 6. External exchanges"]
["Landscape flows",0]
["Gene flows",0]
["Habitat links",0]

{"sheet":"Macro","index":1,"n_rows":90,"n_cols":8,"rows_kept":90}
["AT.OU.1",{"$f":"IF(EvaluationForm!$B$7>=1,1,0)","v":0},{"$nulls":3},"shade","value","class"]
["AT.OU.2",{"$f":"IF(EvaluationForm!$B$7>=2,1,0)","v":0},null,null,1,null,0,"class0"]
["AT.OU.3",{"$f":"IF(EvaluationForm!$B$7>=3,1,0)","v":0},null,null,2,null,1,"class1"]
["AT.OU.4",{"$f":"IF(EvaluationForm!$B$7>=4,1,0)","v":0}]
["AT.OU.5",{"$f":"IF(EvaluationForm!$B$7>=5,1,0)","v":0}]
["AT.IS.1",{"$f":"IF(EvaluationForm!$B$8>=1,1,0)","v":0},{"$nulls":3},"EE.HL.5","actReg"]
["AT.IS.2",{"$f":"IF(EvaluationForm!$B$8>=2,1,0)","v":0},{"$nulls":3},{"$f":"VLOOKUP(actReg,regData,2,FALSE)","v":0},"actRegValue"]
["AT.IS.3",{"$f":"IF(EvaluationForm!$B$8>=3,1,0)","v":0},{"$nulls":3},{"$f":"VLOOKUP(actRegValue,clsValue,2,FALSE)","v":"class0"},"actRegCode"]
["AT.IS.4",{"$f":"IF(EvaluationForm!$B$8>=4,1,0)","v":0}]
["AT.IS.5",{"$f":"IF(EvaluationForm!$B$8>=5,1,0)","v":0}]
["AT.CN.1",{"$f":"IF(EvaluationForm!$B$9>=1,1,0)","v":0}]
["AT.CN.2",{"$f":"IF(EvaluationForm!$B$9>=2,1,0)","v":0}]
["AT.CN.3",{"$f":"IF(EvaluationForm!$B$9>=3,1,0)","v":0}]
["AT.CN.4",{"$f":"IF(EvaluationForm!$B$9>=4,1,0)","v":0}]
["AT.CN.5",{"$f":"IF(EvaluationForm!$B$9>=5,1,0)","v":0}]
["PC.SP.1",{"$f":"IF(EvaluationForm!$B$11>=1,1,0)","v":0}]
["PC.SP.2",{"$f":"IF(EvaluationForm!$B$11>=2,1,0)","v":0}]
["PC.SP.3",{"$f":"IF(EvaluationForm!$B$11>=3,1,0)","v":0}]
["PC.SP.4",{"$f":"IF(EvaluationForm!$B$11>=4,1,0)","v":0}]
["PC.SP.5",{"$f":"IF(EvaluationForm!$B$11>=5,1,0)","v":0}]
["PC.SC.1",{"$f":"IF(EvaluationForm!$B$12>=1,1,0)","v":0}]
["PC.SC.2",{"$f":"IF(EvaluationForm!$B$12>=2,1,0)","v":0}]
["PC.SC.3",{"$f":"IF(EvaluationForm!$B$12>=3,1,0)","v":0}]
["PC.SC.4",{"$f":"IF(EvaluationForm!$B$12>=4,1,0)","v":0}]
["PC.SC.5",{"$f":"IF(EvaluationForm!$B$12>=5,1,0)","v":0}]
["PC.WC.1",{"$f":"IF(EvaluationForm!$B$13>=1,1,0)","v":0}]
["PC.WC.2",{"$f":"IF(EvaluationForm!$B$13>=2,1,0)","v":0}]
["PC.WC.3",{"$f":"IF(EvaluationForm!$B$13>=3,1,0)","v":0}]
["PC.WC.4",{"$f":"IF(EvaluationForm!$B$13>=4,1,0)","v":0}]
["PC.WC.5",{"$f":"IF(EvaluationForm!$B$13>=5,1,0)","v":0}]
["SC.DP.1",{"$f":"IF(EvaluationForm!$B$15>=1,1,0)","v":0}]
["SC.DP.2",{"$f":"IF(EvaluationForm!$B$15>=2,1,0)","v":0}]
["SC.DP.3",{"$f":"IF(EvaluationForm!$B$15>=3,1,0)","v":0}]
["SC.DP.4",{"$f":"IF(EvaluationForm!$B$15>=4,1,0)","v":0}]
["SC.DP.5",{"$f":"IF(EvaluationForm!$B$15>=5,1,0)","v":0}]
["SC.DA.1",{"$f":"IF(EvaluationForm!$B$16>=1,1,0)","v":0}]
["SC.DA.2",{"$f":"IF(EvaluationForm!$B$16>=2,1,0)","v":0}]
["SC.DA.3",{"$f":"IF(EvaluationForm!$B$16>=3,1,0)","v":0}]
["SC.DA.4",{"$f":"IF(EvaluationForm!$B$16>=4,1,0)","v":0}]
["SC.DA.5",{"$f":"IF(EvaluationForm!$B$16>=5,1,0)","v":0}]
["SC.NU.1",{"$f":"IF(EvaluationForm!$B$17>=1,1,0)","v":0}]
["SC.NU.2",{"$f":"IF(EvaluationForm!$B$17>=2,1,0)","v":0}]
["SC.NU.3",{"$f":"IF(EvaluationForm!$B$17>=3,1,0)","v":0}]
["SC.NU.4",{"$f":"IF(EvaluationForm!$B$17>=4,1,0)","v":0}]
["SC.NU.5",{"$f":"IF(EvaluationForm!$B$17>=5,1,0)","v":0}]
["CS.AS.1",{"$f":"IF(EvaluationForm!$B$19>=1,1,0)","v":0}]
["CS.AS.2",{"$f":"IF(EvaluationForm!$B$19>=2,1,0)","v":0}]
["CS.AS.3",{"$f":"IF(EvaluationForm!$B$19>=3,1,0)","v":0}]
["CS.AS.4",{"$f":"IF(EvaluationForm!$B$19>=4,1,0)","v":0}]
["CS.AS.5",{"$f":"IF(EvaluationForm!$B$19>=5,1,0)","v":0}]
["CS.AT.1",{"$f":"IF(EvaluationForm!$B$20>=1,1,0)","v":0}]
["CS.AT.2",{"$f":"IF(EvaluationForm!$B$20>=2,1,0)","v":0}]
["CS.AT.3",{"$f":"IF(EvaluationForm!$B$20>=3,1,0)","v":0}]
["CS.AT.4",{"$f":"IF(EvaluationForm!$B$20>=4,1,0)","v":0}]
["CS.AT.5",{"$f":"IF(EvaluationForm!$B$20>=5,1,0)","v":0}]
["CS.SM.1",{"$f":"IF(EvaluationForm!$B$21>=1,1,0)","v":0}]
["CS.SM.2",{"$f":"IF(EvaluationForm!$B$21>=2,1,0)","v":0}]
["CS.SM.3",{"$f":"IF(EvaluationForm!$B$21>=3,1,0)","v":0}]
["CS.SM.4",{"$f":"IF(EvaluationForm!$B$21>=4,1,0)","v":0}]
["CS.SM.5",{"$f":"IF(EvaluationForm!$B$21>=5,1,0)","v":0}]
["EF.PR.1",{"$f":"IF(EvaluationForm!$B$23>=1,1,0)","v":0}]
["EF.PR.2",{"$f":"IF(EvaluationForm!$B$23>=2,1,0)","v":0}]
["EF.PR.3",{"$f":"IF(EvaluationForm!$B$23>=3,1,0)","v":0}]
["EF.PR.4",{"$f":"IF(EvaluationForm!$B$23>=4,1,0)","v":0}]
["EF.PR.5",{"$f":"IF(EvaluationForm!$B$23>=5,1,0)","v":0}]
["EF.HA.1",{"$f":"IF(EvaluationForm!$B$24>=1,1,0)","v":0}]
["EF.HA.2",{"$f":"IF(EvaluationForm!$B$24>=2,1,0)","v":0}]
["EF.HA.3",{"$f":"IF(EvaluationForm!$B$24>=3,1,0)","v":0}]
["EF.HA.4",{"$f":"IF(EvaluationForm!$B$24>=4,1,0)","v":0}]
["EF.HA.5",{"$f":"IF(EvaluationForm!$B$24>=5,1,0)","v":0}]
["EF.RS.1",{"$f":"IF(EvaluationForm!$B$25>=1,1,0)","v":0}]
["EF.RS.2",{"$f":"IF(EvaluationForm!$B$25>=2,1,0)","v":0}]
["EF.RS.3",{"$f":"IF(EvaluationForm!$B$25>=3,1,0)","v":0}]
["EF.RS.4",{"$f":"IF(EvaluationForm!$B$25>=4,1,0)","v":0}]
["EF.RS.5",{"$f":"IF(EvaluationForm!$B$25>=5,1,0)","v":0}]
["EE.LF.1",{"$f":"IF(EvaluationForm!$B$27>=1,1,0)","v":0}]
["EE.LF.2",{"$f":"IF(EvaluationForm!$B$27>=2,1,0)","v":0}]
["EE.LF.3",{"$f":"IF(EvaluationForm!$B$27>=3,1,0)","v":0}]
["EE.LF.4",{"$f":"IF(EvaluationForm!$B$27>=4,1,0)","v":0}]
["EE.LF.5",{"$f":"IF(EvaluationForm!$B$27>=5,1,0)","v":0}]
["EE.GF.1",{"$f":"IF(EvaluationForm!$B$28>=1,1,0)","v":0}]
["EE.GF.2",{"$f":"IF(EvaluationForm!$B$28>=2,1,0)","v":0}]
["EE.GF.3",{"$f":"IF(EvaluationForm!$B$28>=3,1,0)","v":0}]
["EE.GF.4",{"$f":"IF(EvaluationForm!$B$28>=4,1,0)","v":0}]
["EE.GF.5",{"$f":"IF(EvaluationForm!$B$28>=5,1,0)","v":0}]
["EE.HL.1",{"$f":"IF(EvaluationForm!$B$29>=1,1,0)","v":0}]
["EE.HL.2",{"$f":"IF(EvaluationForm!$B$29>=2,1,0)","v":0}]
["EE.HL.3",{"$f":"IF(EvaluationForm!$B$29>=3,1,0)","v":0}]
["EE.HL.4",{"$f":"IF(EvaluationForm!$B$29>=4,1,0)","v":0}]
["EE.HL.5",{"$f":"IF(EvaluationForm!$B$29>=5,1,0)","v":0}]